    BEGIN:VCALENDAR
VERSION:2.0
PRODID:-//ICOVV - ECPv5.3.1.1//NONSGML v1.0//EN
CALSCALE:GREGORIAN
METHOD:PUBLISH
X-WR-CALNAME:ICOVV
X-ORIGINAL-URL:https://www.icovv.com
X-WR-CALDESC:Eventos para ICOVV
BEGIN:VTIMEZONE
TZID:Europe/Madrid
BEGIN:DAYLIGHT
TZOFFSETFROM:+0100
TZOFFSETTO:+0200
TZNAME:CEST
DTSTART:20260329T010000
END:DAYLIGHT
BEGIN:STANDARD
TZOFFSETFROM:+0200
TZOFFSETTO:+0100
TZNAME:CET
DTSTART:20261025T010000
END:STANDARD
END:VTIMEZONE
BEGIN:VEVENT
DTSTART;TZID=Europe/Madrid:20260521T190000
DTEND;TZID=Europe/Madrid:20260521T210000
DTSTAMP:20260424T161910
CREATED:20260423T111538Z
LAST-MODIFIED:20260423T123344Z
UID:35415-1779390000-1779397200@www.icovv.com
SUMMARY:Concierto Homenaje al Patrimonio Institucional de Valencia
DESCRIPTION:Disfruta de este concierto exclusivo con invitación para colegiados (plazas limitadas)\n\nEl Ilustre Colegio Oficial de Veterinarios de Valencia ha sido invitado por la Sociedad Filarmónica de Valencia a participar en el Concierto Homenaje al Patrimonio Institucional de Valencia\, una iniciativa que reconoce la trayectoria de entidades centenarias que forman parte del tejido histórico\, social y cultural de la ciudad. \nEste concierto\, que celebra su tercera edición\, tendrá lugar el 21 de mayo\, a las 19:15h\, en la Sala José Iturbi del Palau de la Música de Valencia\, y será interpretado por la Orquesta de Cámara de la propia Sociedad Filarmónica. \nTal y como destacan desde la organización\, este homenaje pone en valor el papel de instituciones que\, a lo largo de más de un siglo\, han contribuido al desarrollo de la sociedad valenciana\, generando conocimiento\, cohesión y servicio a la ciudadanía. \nEn este contexto\, el ICOVV ha sido incluido junto a otras destacadas entidades del ámbito cultural\, social y profesional de la Comunitat Valenciana. \n\nPrograma\n\nWolfgang Amadeus Mozart (1756–1791)\n\nSinfonía Concertante en mi bemol mayor K. 364 \nAllegro maestoso \nAndante \nPresto \n\nJoseph Haydn (1732–1809)\n\nSinfonía nº 44 en mi menor “Trauer” \nAllegro con brio \nMenuetto: Allegretto \nAdagio \nFinale: Presto \n  \n\nEntradas para colegiados\nLa Sociedad Filarmónica de Valencia pone a disposición del ICOVV un total de 100 entradas para colegiados interesados en asistir a este concierto.\nLas inscripciones se realizarán a través del formulario habilitado en esta misma página\, y las entradas se asignarán por orden de solicitud hasta agotar las 100 disponibles.\nFECHA LÍMITE PARA INSCRIPCIÓN: 15 de mayo.\n\n 
URL:https://www.icovv.com/event/concierto-homenaje-al-patrimonio-institucional-de-valencia/
CATEGORIES:Eventos colegiales
ATTACH;FMTTYPE=image/jpeg:https://www.icovv.com/wp-content/uploads/2026/04/IMAGEN_WEB_02-scaled.jpg
ORGANIZER;CN="ICOVV":MAILTO:cursos@icovv.com
END:VEVENT
BEGIN:VEVENT
DTSTART;TZID=Europe/Madrid:20260517T083000
DTEND;TZID=Europe/Madrid:20260517T140000
DTSTAMP:20260424T161910
CREATED:20260216T083238Z
LAST-MODIFIED:20260303T154005Z
UID:34214-1779006600-1779026400@www.icovv.com
SUMMARY:2º CAMPEONATO DE PÁDEL ICOVV
DESCRIPTION:Después del éxito de la primera edición…\n¡El pádel vuelve al ICOVV!\n\nEl próximo 17 de mayo celebraremos el 2º Campeonato de Pádel del ICOVV\, una jornada pensada para disfrutar del deporte\, compartir pista con compañeros y seguir fortaleciendo los lazos que nos unen más allá del ejercicio profesional. \nTanto si eres jugador habitual como si te estás iniciando\, este campeonato está diseñado para todos los niveles. Porque más que un torneo\, es una experiencia para compartir\, competir y disfrutar en un ambiente de compañerismo. \nY si no tienes pareja… no hay problema.\nLa inscripción es individual\, y durante el campeonato jugarás con diferentes compañer@s. \n\nPorque hay momentos que merecen repetirse. ¡Dale al play!\n	\n								\n									\n					\n								\n\n	\n	\n\nAlgunos requisitos…\n\n\n\nEl torneo tendrá un máximo de 28 participantes.\nTodos ellos deben ser colegiados del ICOVV.\nLas plazas se establecerán por riguroso orden de inscripción.\nEl coste de la participación es de 5\,00€. Se abonarán 20€ en concepto de fianza y se devolverán 15\,00€ una vez finalizado el torneo\, a aquellos colegiados que hayan asistido al mismo o a aquellos que hayan anulado su inscripción\, antes del 4 de mayo.\n\n\n\n(La organización se reserva la posibilidad de ampliar el número de participantes si fuese viable en tiempo y forma\, así como abrir la participación a personas no colegiadas en el ICOVV). \n\n\n    NORMAS DEL CAMPEONATO\n  \n\n\n    REGLAMENTO DE JUEGO F.I.P.\n  \n\n\nPorque hay momentos que merecen repetirse…\n¡Inscríbete ya y vuelve a la pista con el ICOVV!\n¡TE ESPERAMOS!\n	\n								\n									\n					\n								\n\n	\n	\n\nFECHA: Domingo\, 17 | Mayo | 2025 \nHORARIO: Convocatoria: 8.30h  | Comienzo del campeonato. 9:00h | Almuerzo: 12.00h \nLUGAR: SUMA Pádel Club Alfafar [C/ Manuel Baixauli Andrés\, s/n – Alfafar (Valencia)]
URL:https://www.icovv.com/event/2o-campeonato-de-padel-icovv/
CATEGORIES:Eventos colegiales
ATTACH;FMTTYPE=image/png:https://www.icovv.com/wp-content/uploads/2026/02/IMAGEN_WEB_02.png
ORGANIZER;CN="ICOVV":MAILTO:cursos@icovv.com
END:VEVENT
END:VCALENDAR