    BEGIN:VCALENDAR
VERSION:2.0
PRODID:-//ICOVV - ECPv5.3.1.1//NONSGML v1.0//EN
CALSCALE:GREGORIAN
METHOD:PUBLISH
X-WR-CALNAME:ICOVV
X-ORIGINAL-URL:https://www.icovv.com
X-WR-CALDESC:Eventos para ICOVV
BEGIN:VTIMEZONE
TZID:Europe/Madrid
BEGIN:DAYLIGHT
TZOFFSETFROM:+0100
TZOFFSETTO:+0200
TZNAME:CEST
DTSTART:20260329T010000
END:DAYLIGHT
BEGIN:STANDARD
TZOFFSETFROM:+0200
TZOFFSETTO:+0100
TZNAME:CET
DTSTART:20261025T010000
END:STANDARD
END:VTIMEZONE
BEGIN:VEVENT
DTSTART;TZID=Europe/Madrid:20261026T000000
DTEND;TZID=Europe/Madrid:20261029T235900
DTSTAMP:20260424T210419
CREATED:20260420T073659Z
LAST-MODIFIED:20260420T074614Z
UID:35355-1792972800-1793318340@www.icovv.com
SUMMARY:Feria ganadera\, industrial y agroalimentaria 2026
DESCRIPTION:SEPOR 2026 se avanza hacia el futuro para estar más cerca de ti \nComo punto de referencia para el sector ganadero\, industrial y agroalimentario de nuestro país\, SEPOR continúa en movimiento. Por eso\, de cara a nuestra edición número 59 –que se celebrará del 26 al 29 de octubre– seguimos avanzando hacia una feria más moderna y manteniendo nuestra posición de referencia para el sector. \nParticipa en el mayor escaparate para tu empresa en el sector. \nLugar: IFELOR – Palacio de Ferias y Congresos Alcalde Francisco Jódar Alonso\, en Lorca (Murcia). \n 
URL:https://www.icovv.com/event/feria-ganadera-industrial-y-agroalimentaria-2026/
CATEGORIES:Congresos,Formación externa
ATTACH;FMTTYPE=image/jpeg:https://www.icovv.com/wp-content/uploads/2026/04/IMAGEN_CURSOS1.jpg
END:VEVENT
BEGIN:VEVENT
DTSTART;VALUE=DATE:20260605
DTEND;VALUE=DATE:20260607
DTSTAMP:20260424T210419
CREATED:20260330T110709Z
LAST-MODIFIED:20260416T140306Z
UID:35034-1780617600-1780790399@www.icovv.com
SUMMARY:IV CONGRESO VETERINARIO DE PEQUEÑOS ANIMALES CASTILLA Y LEÓN - SALAMANCA 2026
DESCRIPTION:IV CONGRESO VETERINARIO DE PEQUEÑOS ANIMALES DE CASTILLA Y LEON\, organizado por el Consejo de Colegios Veterinarios de Castilla y León y el Colegio Oficial de Veterinarios de Salamanca\, que se celebrará los días 5 y 6 de junio de 2026 en Salamanca\, en el Colegio Mayor Arzobispo Fonseca de la Universidad de Salamanca (C/ Fonseca\, 4\, 37002 Salamanca) \nMás información y programa. \n  \n 
URL:https://www.icovv.com/event/iv-congreso-veterinario-de-pequenos-animales-cyl-salamanca-2026-2/
CATEGORIES:Congresos,Formación externa
ATTACH;FMTTYPE=image/png:https://www.icovv.com/wp-content/uploads/2026/03/congreso-2026-1.png
END:VEVENT
BEGIN:VEVENT
DTSTART;VALUE=DATE:20260520
DTEND;VALUE=DATE:20260523
DTSTAMP:20260424T210419
CREATED:20251028T155547Z
LAST-MODIFIED:20260423T121351Z
UID:32445-1779235200-1779494399@www.icovv.com
SUMMARY:XXVIII CONGRESO INTERNACIONAL ANEMBE DE MEDICINA BOVINA
DESCRIPTION:XXVIII CONGRESO INTERNACIONAL ANEMBE DE MEDICINA BOVINA\, que se celebrará en la Centro de Congresos de Valladolid\, del 20 al 22 de mayo de 2026 \n  \nPara más información sobre el programa y los detalles del encuentro\, podéis acceder al siguiente enlace: https://congresoanembe.com/  \n 
URL:https://www.icovv.com/event/xxviii-congreso-internacional-anembe-de-medicina-bovina/
CATEGORIES:Congresos,Formación externa
ATTACH;FMTTYPE=image/jpeg:https://www.icovv.com/wp-content/uploads/2025/10/anembe.jpg
END:VEVENT
BEGIN:VEVENT
DTSTART;TZID=Europe/Madrid:20260516T160000
DTEND;TZID=Europe/Madrid:20260516T203000
DTSTAMP:20260424T210419
CREATED:20260331T112928Z
LAST-MODIFIED:20260331T122938Z
UID:35056-1778947200-1778963400@www.icovv.com
SUMMARY:ACTUALIZACIÓN EN MEDICINA FELINA
DESCRIPTION:TEMARIO \n• Diagnóstico y tratamiento del PIF.\n• Nuevas estrategias en monitorización y tratamiento de la diabetes mellitus.\n• Hipertensión arterial en gatos\, ¿sólo en enfermedad renal?\n• Aproximación diagnóstica al exceso de vocalizaciones en gatos geriátricos. \nNo se entregarán ni se editarán resúmenes de las conferencias. \nPONENTE \nDIEGO ESTEBAN \n \nLicenciado en Veterinaria por la Universitat Autònoma de Barcelona el 1998 y Acreditado en Medicina Felina por AVEPA el 2013 y re-acreditado el 2018 y 2023. Se ha dedicado plenamente a la medicina felina en la clínica Tot Cat desde 1999 hasta el 2016 y en la Clínica Felina Barcelona desde entonces. Socio de AVEPA y miembro activo de GEMFE (grupo de trabajo en medicina felina de AVEPA) del que fue su presidente y consta actualmente en su comité científico. También pertenece a la ISFM (International Society of Feline Medicine) y la ESVE (European Society of Veterinary Endocrinology). Autor de publicaciones en distintas revistas científicas indexadas y no indexadas\, así como ponente en congresos tanto nacionales como internacionales \nInscripciones: \nSocio de AVEPA: Incluido en la cuota anual. \nNo Socio de AVEPA pero Colegiado en el Ilustre Colegio Oficial de Veterinarios de Valencia: Sin coste. \nNo Socio de AVEPA y no Colegiado en el Ilustre Colegio Oficial de Veterinarios de Valencia: 195€. \n*La inscripción previa a cada seminario es OBLIGATORIA\, tanto para socios como para no socios. Plazas limitadas al aforo de la sala En caso de no poder asistir se ruega anular la inscripción con antelación enviando mail a secre@avepa.org para que la plaza pueda ser ocupada por otro compañero. En caso de estar inscrito y no acudir al mismo sin haber avisado antes\, tiene una penalización de 30€. La asistencia a este curso es personal e intransferible. No está permitida la asistencia al curso en nombre de un socio de AVEPA. Los organizadores del curso podrán solicitar una identificación a los asistentes al curso. \nACREDITACIÓN DE ESPECIALIDADES VETERINARIAS AVEPA\nLa asistencia a cada uno de estos seminarios del programa de formación continuada AVEPA 2026\, comporta la obtención de 2\,8 puntos “formación postgraduada adquirida”\, en el proceso de acreditación de AVEPA.\, en cada una de las especialidades relativas a cada seminario.
URL:https://www.icovv.com/event/actualizacionenmedicinafelina/
LOCATION:ICOVV\, Guillem de Castro\, 8\, Valencia\, Valencia\, 46001\, España
CATEGORIES:Congresos,Cursos,Formación externa
ATTACH;FMTTYPE=image/jpeg:https://www.icovv.com/wp-content/uploads/2026/03/AVEPA_2026.jpg
GEO:39.4691175;-0.3812725
X-APPLE-STRUCTURED-LOCATION;VALUE=URI;X-ADDRESS=ICOVV Guillem de Castro 8 Valencia Valencia 46001 España;X-APPLE-RADIUS=500;X-TITLE=Guillem de Castro\, 8:geo:-0.3812725,39.4691175
END:VEVENT
END:VCALENDAR