    BEGIN:VCALENDAR
VERSION:2.0
PRODID:-//ICOVV - ECPv5.3.1.1//NONSGML v1.0//EN
CALSCALE:GREGORIAN
METHOD:PUBLISH
X-WR-CALNAME:ICOVV
X-ORIGINAL-URL:https://www.icovv.com
X-WR-CALDESC:Eventos para ICOVV
BEGIN:VTIMEZONE
TZID:Europe/Madrid
BEGIN:DAYLIGHT
TZOFFSETFROM:+0100
TZOFFSETTO:+0200
TZNAME:CEST
DTSTART:20260329T010000
END:DAYLIGHT
BEGIN:STANDARD
TZOFFSETFROM:+0200
TZOFFSETTO:+0100
TZNAME:CET
DTSTART:20261025T010000
END:STANDARD
END:VTIMEZONE
BEGIN:VEVENT
DTSTART;VALUE=DATE:20260401
DTEND;VALUE=DATE:20260502
DTSTAMP:20260424T141203
CREATED:20260323T111324Z
LAST-MODIFIED:20260323T111540Z
UID:34858-1775005200-1777597199@www.icovv.com
SUMMARY:CURSO ONLINE: "Medicina preventiva en animales exóticos"
DESCRIPTION:CURSO ONLINE: «Medicina preventiva en animales exóticos» \nFecha:  Disponible del 1 de abril al 30 de abril de 2026 \nInscripciones: https://colvetcampus.es/Medicina-preventiva-en-animales-exoticos_es_4_174.html \nDuración: 10 horas \nPrecio: 40€ \nModalidad: Online asíncrona. Video tutoriales. \nAutor: Bárbara Martín-Maldonado\nLicenciada en Veterinaria. Doctorado en Veterinaria.\nMáster en Clínica y Urgencias de Animales Exóticos \nDescripción: \nEste curso ofrece una visión integral y práctica de las estrategias de prevención aplicadas a pequeños mamíferos\, aves\, reptiles\, anfibios y peces ornamentales.\nA lo largo de las sesiones\, se abordan los fundamentos de la bioseguridad\, la nutrición\, el manejo\, el bienestar animal y la legislación vigente\, con el objetivo de capacitar al veterinario clínico para diseñar y aplicar protocolos eficaces de medicina preventiva adaptados a cada especie. \nObjetivos: \n\nContextualizar la prevención en animales exóticos\, integrando bienestar\, manejo y salud poblacional\nMostrar cómo la prevención se basa en un manejo adecuado\, nutrición equilibrada y bienestar ambiental\nRevisar patologías frecuentes desde una perspectiva preventiva y práctica\nIntegrar la medicina preventiva en un marco ético\, normativo y social \n\nContenidos: \nMódulo 1. Fundamentos y enfoque de la medicina preventiva en exóticos\nMódulo 2. Nutrición\, manejo y enriquecimiento ambiental\nMódulo 3. Control sanitario y prevención de enfermedades frecuentes \nMódulo 4. Bienestar\, legislación y salud pública \nAl finalizar la formación\, los alumnos que completen todos los contenidos recibirán un certificado de aprovechamiento del curso. \nDESCÁRGATE EL DOSSIER INFORMATIVO \n\n 
URL:https://www.icovv.com/event/curso-online-medicina-preventiva-en-animales-exoticos/
LOCATION:Online\, España
CATEGORIES:Cursos,Formación interna
ATTACH;FMTTYPE=image/jpeg:https://www.icovv.com/wp-content/uploads/2026/03/2.jpg
ORGANIZER;CN="OCV":MAILTO:consejo@colvet.es
END:VEVENT
BEGIN:VEVENT
DTSTART;TZID=Europe/Madrid:20260429T143000
DTEND;TZID=Europe/Madrid:20260429T163000
DTSTAMP:20260424T141203
CREATED:20260408T144839Z
LAST-MODIFIED:20260409T093549Z
UID:35150-1777473000-1777480200@www.icovv.com
SUMMARY:CHARLA INFORMATIVA "Especies reguladas\, CITES o invasoras: ¿qué comprobar y qué hacer?"
DESCRIPTION:La actividad formativa responde a una necesidad creciente en la práctica clínica veterinaria diaria: la aparición en consulta de animales distintos de perro\, gato y hurón\, frente a los cuales muchos profesionales manifiestan dudas sobre cómo proceder desde el punto de vista clínico\, legal\, documental y ético.\nEn estos casos\, el veterinario se enfrenta con frecuencia a preguntas inmediatas y relevantes: si se trata de una especie legalmente permitida\, si requiere documentación específica\, si está incluida en normativa CITES\, si puede considerarse especie exótica invasora y cuál es la actuación profesional adecuada en cada supuesto. Esta incertidumbre puede generar inseguridad en la toma de decisiones\, variabilidad en la práctica clínica y riesgo de errores en el manejo del caso.\nOBJETIVO GENERAL:\n\nCapacitar a los profesionales veterinarios para actuar de forma segura\, fundamentada y conforme al marco legal ante la llegada a consulta de animales no convencionales\, incluyendo especies exóticas\, animales sujetos a normativa CITES y especies exóticas invasoras.\n\nOBJETIVOS ESPECÍFICOS:\n\nIdentificar qué se entiende por animal no convencional en el contexto de la clínica veterinaria.\nDiferenciar\, de forma práctica\, entre especies exóticas\, especies protegidas\, especies sujetas a CITES y especies exóticas invasoras.\nReconocer los principales elementos legales y documentales que pueden afectar a la atención clínica de estos animales.\nSaber qué información recabar del propietario o tenedor del animal en el momento de la consulta.\nDeterminar qué documentación puede ser necesaria según el tipo de especie y el contexto del caso.\nAdquirir criterios de actuación profesional ante situaciones de duda sobre legalidad\, trazabilidad o tenencia.\nMejorar la toma de decisiones en consulta reduciendo la incertidumbre y el riesgo de actuaciones inadecuadas.\nReforzar el papel del veterinario como profesional sanitario responsable\, con criterio técnico y conocimiento del marco regulatorio aplicable.\n\n\n\n\n	\n		\n			\n			\nPONENTE: Cati Gerique Zipfel\nVeterinaria y profesora asociada en la Universidad CEU Cardenal Herrera (CEU UCH) en Valencia\, dentro del Departamento de Producción y Sanidad Animal\, Salud Pública Veterinaria y Ciencia y Tecnología de los Alimentos. También ha sido reconocida por su experiencia en el manejo y la patología de grandes herbívoros y fauna silvestre. \n		\n			\n\n	\n\n	\n		\n			\n			\n\n	\n								\n									\n					\n								\n\n	\n	\n		\n			\n\n	\n\n	\n		\n\n	\n	\n	\n								\n									\n					\n								\n\n	\n	\n	\n		\n\n	\n	\n\nINFORMACIÓN GENERAL:\n\n\n\nFECHA: miércoles\, 29 de abril.\nHORARIO: 14.30h – 16.30h\nLUGAR: Sede ICOVV (Guillem de Castro nº8)\nFORMATO: Presencial y Online\n\n\nPOLÍTICA DE INSCRIPCIÓN:\n\nEl coste de la actividad es de 40€. No obstante\, la inscripción estará subvencionada al 100% para los colegiados de Valencia\, Alicante\, Castellón\, Murcia y Baleares.\nPara beneficiarse de esta subvención\, será imprescindible la asistencia (presencial u online) a la actividad. En caso de no asistir\, el colegiado perderá el derecho a la subvención\, debiendo abonar el importe íntegro de la inscripción.\nLas cancelaciones deberán comunicarse con una antelación mínima de una semana respecto a la fecha de celebración de la actividad (hasta el 22 de abril de 2026). En caso de cancelación fuera de plazo\, o de no asistencia sin previo aviso\, se aplicará igualmente la pérdida de la subvención.\n\n. \n\n\n[SE OFRECERÁ UN APERITIVO PREVIO A LA CHARLA A LAS 14.00h] \n[PARKING GRATUITO PARA COLEGIAD@S ASISTENTES] (Más información) \n\n\n\nPatrocinador:
URL:https://www.icovv.com/event/charla-informativa-especies-reguladas-cites-o-invasoras-que-comprobar-y-que-hacer/
LOCATION:ICOVV\, Guillem de Castro\, 8\, Valencia\, Valencia\, 46001\, España
CATEGORIES:Cursos,Formación interna
ATTACH;FMTTYPE=image/jpeg:https://www.icovv.com/wp-content/uploads/2026/04/IMAGEN_CHARLA_03-scaled.jpg
ORGANIZER;CN="ICOVV":MAILTO:cursos@icovv.com
GEO:39.4691175;-0.3812725
X-APPLE-STRUCTURED-LOCATION;VALUE=URI;X-ADDRESS=ICOVV Guillem de Castro 8 Valencia Valencia 46001 España;X-APPLE-RADIUS=500;X-TITLE=Guillem de Castro\, 8:geo:-0.3812725,39.4691175
END:VEVENT
BEGIN:VEVENT
DTSTART;TZID=Europe/Madrid:20260430T170000
DTEND;TZID=Europe/Madrid:20260430T183000
DTSTAMP:20260424T141203
CREATED:20260410T120437Z
LAST-MODIFIED:20260410T121420Z
UID:35206-1777568400-1777573800@www.icovv.com
SUMMARY:WEBSEMINAR: "El virus West Nile en España: avances y perspectivas"
DESCRIPTION:Fecha y hora:  30 de abril de 2026\, a las 17:00 horas (16:00 en Canarias) \nDuración: 90 minutos \nInscripciones \nPrecio:  gratuito \nPrograma \nPonente: Miguel Ángel Jiménez Clavero  \nProfesor de Investigación e investigador principal en el Grupo de Enfermedades Emergentes y Transfronterizas del Centro de Investigación en Sanidad Animal (CISA)\, el mayor laboratorio de Alta Seguridad Biológica existente en España\, perteneciente al INIA-CSIC\, Además\, actualmente es Jefe del Departamento de Enfermedades Infecciosas y Salud Global en dicho Centro. Biólogo de formación\, se doctoró en Bioquímica y Biología Molecular en 1994 y desde entonces viene desarrollando su carrera investigadora en el ámbito de la virología. Su especialidad es la virología animal\, y dentro de ella se centra en las enfermedades emergentes causadas por virus zoonóticos tales como la fiebre por virus Nilo Occidental\, la fiebre hemorrágica de Crimea-Congo o la gripe aviar zoonótica\, entre otras\, siempre bajo un prisma «Una salud» (One Health). Ha dirigido 23 proyectos de investigación nacionales e internacionales\, y publicado más de 170 artículos científicos en su especialidad\, obteniendo más de 6600 citas en la literatura científica. Ha impartido numerosos cursos\, conferencias y comunicaciones en congresos internacionales por más de 30 países en Europa\, África\, Asia y América. Además\, cultiva la divulgación científica\, actividad por la que ha recibido varios premios. \nDescripción:  \nLa conferencia tratará sobre la actual situación de la fiebre por virus del Nilo Occidental\, o virus West Nile (WNV) con especial referencia al escenario epidemiológico que ha surgido en España y cómo éste ha evolucionado en tiempos recientes. Se hablará de los aspectos básicos del virus\, su ciclo biológico\, su variabilidad genética\, su patogenicidad en animales y humanos. También se revisarán aspectos sobre la epidemiología básica de la enfermedad que produce\, cómo se transmite y los factores que favorecen su expansión territorial. Se hará referencia a los planes de vigilancia en marcha en España\, y como se aplica en ellos la estrategia “Una salud” y qué ventajas tiene esta estrategia en relación con la investigación y vigilancia de esta enfermedad. Finalmente se expondrán algunos avances en la investigación de esta enfermedad en España. \nObjetivos: \nActualizar el conocimiento sobre el virus West Nile y la enfermedad que produce\, sus implicaciones para la sanidad animal y la salud pública\, y su actual expansión territorial en España y Europa. Ofrecer una perspectiva de la estrategia “Una salud” aplicada a esta zoonosis en nuestro entorno geográfico. \nFormato:  \n\nCharla online de 90 minutos con 60 min de exposición y 30 minutos de debate con opción a que los asistentes envíen preguntas al ponente.\nInforme a todos los asistentes con las preguntas no respondidas en directo junto con materiales descargables complementarios.\nDiploma solo para asistentes en directo que garantice que han recibido la formación.\nGrabación disponible a través de la plataforma del Consejo tras la impartición del programa para poder verla sin limitación (durante un periodo de tiempo indicado en el Campus) CAMPUS > SEMINARIOS GRABADOS\nLos inscritos recibirán un email con la invitación (enlace de acceso y contraseña) el mismo día del evento a primera hora de la mañana.
URL:https://www.icovv.com/event/el-virus-west-nile-en-espana-avances-y-perspectivas/
LOCATION:Valencia
CATEGORIES:Cursos,Formación interna
ATTACH;FMTTYPE=image/jpeg:https://www.icovv.com/wp-content/uploads/2026/04/WEBSEMINAR_NILO.jpg
ORGANIZER;CN="OCV":MAILTO:consejo@colvet.es
END:VEVENT
END:VCALENDAR