    BEGIN:VCALENDAR
VERSION:2.0
PRODID:-//ICOVV - ECPv5.3.1.1//NONSGML v1.0//EN
CALSCALE:GREGORIAN
METHOD:PUBLISH
X-WR-CALNAME:ICOVV
X-ORIGINAL-URL:https://www.icovv.com
X-WR-CALDESC:Eventos para ICOVV
BEGIN:VTIMEZONE
TZID:Europe/Madrid
BEGIN:DAYLIGHT
TZOFFSETFROM:+0100
TZOFFSETTO:+0200
TZNAME:CEST
DTSTART:20260329T010000
END:DAYLIGHT
BEGIN:STANDARD
TZOFFSETFROM:+0200
TZOFFSETTO:+0100
TZNAME:CET
DTSTART:20261025T010000
END:STANDARD
END:VTIMEZONE
BEGIN:VEVENT
DTSTART;TZID=Europe/Madrid:20260226T200000
DTEND;TZID=Europe/Madrid:20260226T220000
DTSTAMP:20260424T181546
CREATED:20260209T100244Z
LAST-MODIFIED:20260210T173502Z
UID:33966-1772136000-1772143200@www.icovv.com
SUMMARY:Convocatoria de la Asamblea General Extraordinaria y Ordinaria del ICOVV (Jueves\, 26/02/26)
DESCRIPTION:ASAMBLEA EXTRAORDINARIA \nSe convoca a todos los/as colegiados/as a la Asamblea General Ordinaria del Ilustre Colegio Oficial de Veterinarios de Valencia. \n\nFECHA: Jueves\, 26 de febrero de 2026.\nHORA: 19:45 horas en primera convocatoria y a las 20:00 horas en segunda convocatoria..\nLUGAR: Salón de Actos del ICOVV (C/ Guillem de Castro 8).\n\nORDEN DEL DÍA: \n\nPropuesta de modificación de la derrama por fallecimiento: propuesta de sustitución de la derrama por fallecimiento por un importe fijo que se consignará anualmente en los presupuestos colegiales.\n\n	\n		\n\n	\n	\n\nASAMBLEA ORDINARIA \nSe convoca a todos los/as colegiados/as a la Asamblea General Ordinaria del Ilustre Colegio Oficial de Veterinarios de Valencia. \n\nFECHA: Jueves\, 26 de febrero de 2026.\nHORA: 20:30 horas en primera convocatoria y a las 20:45 horas en segunda convocatoria.\nLUGAR: Salón de Actos del ICOVV (C/ Guillem de Castro 8).\n\nORDEN DEL DÍA: \n\nLectura y aprobación\, si procede\, del Acta de la Asamblea anterior.\nAprobación de los Presupuestos de Ingresos y Gastos del año 2026. (Se adjunta copia del documento).\nAprobación cuotas colegiales para el ejercicio 2026.\nAprobación de la ayuda para el pago de la cuota del ICOVV a los colegiados en situación de desempleo.\nRuegos y Preguntas.\n\n	\n		\n\n	\n	\n\n\n	\n		\n			\n			\n\n    Resultados y Balance del año 2025\n  \n\n		\n			\n\n	\n\n	\n		\n			\n			\n\n    Circular Convocatoria Asamblea Extraordinaria\n  \n\n\n    Circular Convocatoria Asamblea Ordinaria\n  \n\n		\n			\n\n	\n\n	\n		\n			\n			\n\n    Protocolo Voto Delegado\n  \n\n		\n			\n\n	\n\n\n    PARKING GRATUITO COLEGIADOS
URL:https://www.icovv.com/event/asamblea-26-02-26/
LOCATION:ICOVV\, Guillem de Castro\, 8\, Valencia\, Valencia\, 46001\, España
CATEGORIES:Eventos colegiales
ATTACH;FMTTYPE=image/jpeg:https://www.icovv.com/wp-content/uploads/2025/02/ASAMBLEA01-scaled.jpg
ORGANIZER;CN="ICOVV":MAILTO:cursos@icovv.com
GEO:39.4691175;-0.3812725
X-APPLE-STRUCTURED-LOCATION;VALUE=URI;X-ADDRESS=ICOVV Guillem de Castro 8 Valencia Valencia 46001 España;X-APPLE-RADIUS=500;X-TITLE=Guillem de Castro\, 8:geo:-0.3812725,39.4691175
END:VEVENT
BEGIN:VEVENT
DTSTART;TZID=Europe/Madrid:20260311T160000
DTEND;TZID=Europe/Madrid:20260311T180000
DTSTAMP:20260424T181546
CREATED:20251007T113751Z
LAST-MODIFIED:20260226T114213Z
UID:31980-1773244800-1773252000@www.icovv.com
SUMMARY:Seminario Influenza aviar  AVEDILA 2026
DESCRIPTION:El primer seminario estará dedicado a una enfermedad de gran relevancia para la sanidad animal y la salud pública: la Influenza Aviar. En esta jornada se abordará la situación epidemiológica actual y los escenarios de riesgo zoonótico\, de la mano de D. Rafael Astorga Márquez\, catedrático de Sanidad Animal de la Universidad de Córdoba. Asimismo\, se presentará el programa de vigilancia y diagnóstico en España\, que será expuesto por Dña. Maite Barrios Zambrano\, responsable del Departamento de Virología del Laboratorio Central de Veterinaria (Algete\, Madrid)\, del Ministerio de Agricultura\, Pesca y Alimentación. \nLa jornada se celebrará on line\, el próximo día 11 de marzo de 2026\, en horario de 17:00 a 19:00 horas.  \nYa está accesible la plataforma\, donde encontrareis toda la información y el formulario de inscripción gratuita\, en esta dirección: \nhttps://www.seminarioinfluenzaaviar.es
URL:https://www.icovv.com/event/seminario-influenza-aviar-avedila-2026/
LOCATION:Online\, España
CATEGORIES:Cursos,Formación externa
ATTACH;FMTTYPE=image/jpeg:https://www.icovv.com/wp-content/uploads/2025/10/AVEDILA.jpg
END:VEVENT
END:VCALENDAR