    BEGIN:VCALENDAR
VERSION:2.0
PRODID:-//ICOVV - ECPv5.3.1.1//NONSGML v1.0//EN
CALSCALE:GREGORIAN
METHOD:PUBLISH
X-WR-CALNAME:ICOVV
X-ORIGINAL-URL:https://www.icovv.com
X-WR-CALDESC:Eventos para ICOVV
BEGIN:VTIMEZONE
TZID:Europe/Madrid
BEGIN:DAYLIGHT
TZOFFSETFROM:+0100
TZOFFSETTO:+0200
TZNAME:CEST
DTSTART:20230326T010000
END:DAYLIGHT
BEGIN:STANDARD
TZOFFSETFROM:+0200
TZOFFSETTO:+0100
TZNAME:CET
DTSTART:20231029T010000
END:STANDARD
END:VTIMEZONE
BEGIN:VEVENT
DTSTART;TZID=Europe/Madrid:20230112T170000
DTEND;TZID=Europe/Madrid:20230112T183000
DTSTAMP:20260420T130804
CREATED:20221109T102635Z
LAST-MODIFIED:20221221T072055Z
UID:17185-1673542800-1673548200@www.icovv.com
SUMMARY:RELACIÓN ENTRE LAS ESPECIES SILVESTRES Y DOMÉSTICAS Y SU IMPLICACIÓN EN LA RE-EMERGENCIA DE ENFERMEDADES ZOONÓTICAS
DESCRIPTION:En las últimas décadas\, diferentes factores antropogénicos como los cambios en el uso del suelo\, la globalización del comercio\, las migraciones humanas\, cambios en las actividades sociales o la presión sobre el medio natural\, acelerados con la crisis global\, han tenido un efecto directo en la distribución y abundancia de las poblaciones animales\, así como en la presencia y riesgo de emergencia de enfermedades compartidas entre las especies silvestres\, domésticas y el ser humano. Diferentes patógenos zoonóticos como virus\, bacterias\, hongos y parásitos circulan en comunidades animales de variable complejidad\, donde las interacciones entre las especies de hospedadores vertebrados\, incluido el ser humano\, vectores y el medio ambiente determinan su mantenimiento y difusión. Muchos de estos microorganismos son de tipo multi-hospedador\, especialmente resilientes al ser capaces de aprovechar más de una especie para mantenerse\, multiplicarse y distribuirse. Conocer los diferentes actores implicados en la epidemiología de estas enfermedades zoonóticas emergentes\, así como la forma en que los patógenos se mantienen y circulan en un ecosistema es\, en consecuencia\, de gran relevancia para establecer programas de vigilancia que permitan detectar de forma precoz su presencia en un territorio y establecer medidas de lucha específicas para evitar su difusión. \nDOSSIER INFORMATIVO \nOBJETIVOS\n\nPoner en contexto la relación entre las especies silvestres y domésticas con las enfermedades emergentes.\nAbordar en papel de estas especies en la epidemiología de enfermedades re-emergentes zoonóticas de actualidad.\nProfundizar en el conocimiento de enfermedades emergentes zoonóticas presentes en España y en la importancia de las especies silvestres en la distribución y mantenimiento de estas enfermedades.\n\nPONENTE\nIgnacio García Bocanegra es catedrático de Sanidad Animal de la Universidad de Córdoba. Ha trabajado en el Centro de Análisis y Diagnóstico de la Fauna Silvestre de la Junta de Andalucía y como investigador posdoctoral en el Centre de Recerca en Sanitat Animal (CRESA). En el año 2009 se incorporó al Departamento de Sanidad Animal de la UCO como profesor de universidad impartiendo diferentes asignaturas de grado y posgrado del área. Es responsable del Grupo de Investigación en Sanidad Animal y Zoonosis (GISAZ) y miembro de la Unidad de Investigación Competitiva en Zoonosis y enfermedades emergentes desde la perspectiva de Una salud (ENZOEM). \nHa publicado más de 170 artículos en revistas científicas indexadas\, es autor/coautor en 25 libros y capítulos de libro y ha presentado más de 250 comunicaciones orales o posters en congresos nacionales e internacionales. Ha dirigido o participado en más de 50 proyectos y contratos de investigación. Las líneas de trabajo que reflejan su actividad investigadora se centran en la epidemiología y el control de las enfermedades infectocontagiosas de importancia en Sanidad Animal y Salud Pública\, desde una perspectiva de “Una Sola Salud” (One Health).
URL:https://www.icovv.com/event/relacion-entre-las-especies-silvestres-y-domesticas/
LOCATION:Online\, España
CATEGORIES:Cursos,Formación interna
ATTACH;FMTTYPE=image/jpeg:https://www.icovv.com/wp-content/uploads/2022/11/IMAGEN.jpg
END:VEVENT
END:VCALENDAR