    BEGIN:VCALENDAR
VERSION:2.0
PRODID:-//ICOVV - ECPv5.3.1.1//NONSGML v1.0//EN
CALSCALE:GREGORIAN
METHOD:PUBLISH
X-WR-CALNAME:ICOVV
X-ORIGINAL-URL:https://www.icovv.com
X-WR-CALDESC:Eventos para ICOVV
BEGIN:VTIMEZONE
TZID:Europe/Madrid
BEGIN:DAYLIGHT
TZOFFSETFROM:+0100
TZOFFSETTO:+0200
TZNAME:CEST
DTSTART:20260329T010000
END:DAYLIGHT
BEGIN:STANDARD
TZOFFSETFROM:+0200
TZOFFSETTO:+0100
TZNAME:CET
DTSTART:20261025T010000
END:STANDARD
END:VTIMEZONE
BEGIN:VEVENT
DTSTART;TZID=Europe/Madrid:20260121T201500
DTEND;TZID=Europe/Madrid:20260121T213000
DTSTAMP:20260424T143036
CREATED:20260116T083229Z
LAST-MODIFIED:20260116T083315Z
UID:33487-1769026500-1769031000@www.icovv.com
SUMMARY:VIDEOCONFERENCIA INFORMATIVA: Próxima convocatoria 25 plazas Salud Pública + 12 plazas Seguridad Alimentaria (Generalitat Valenciana)
DESCRIPTION:Se encuentra plenamente en vigor el objetivo de reducción de la interinidad a menos del 8% de la plantilla antes del 31/12/2026. En el caso de la Generalitat Valenciana: \n\nSe encuentra próxima la convocatoria de 25 plazas de Veterinarios de Salud Pública y de 12 plazas de Seguridad Alimentaria\, pertenecientes a las OEP 2023+25.\nLa próxima Oferta de Empleo Público 2026 incluirá una nueva cifra de plazas de Agricultura en cuantificación final en estos momentos\, de convocatoria al término del actual proceso selectivo.\n\nA la vista del número de peticiones de información recibidas\, creemos oportuno celebrar la siguiente videoconferencia informativa\, en la que despejar todas las dudas que puedan plantearse: \n  \nPRÓXIMAS CONVOCATORIAS GENERALITAT VALENCIANA (25 PLAZAS SP + 12 PLAZAS SA) // OEP 2026 AGRICULTURA \nDía / Hora: MIÉRCOLES 21 ENERO 2026 – 20:15 p.m. \n\nÚnase a la reunión de Zoom: https://zoom.us/j/98215314364?pwd=Rk3HcMGX9YuIclZ4c5bTbN3dQS6SdJ.1\nID de reunión: 982 1531 4364\nCódigo de acceso: 438007\n\n  \nContenido de la sesión: \n\nFunciones de los Servicios Veterinarios Oficiales de la Generalitat Valenciana (Salud Pública\, Seguridad Alimentaria\, Agricultura).\nCaracterísticas de los puestos: ubicación\, retribuciones\, movilidad\, incompatibilidades.\nTemario y estructura de los exámenes.\nMecánica de preparación en el grupo virtual del Colegio Oficial de Veterinarios.\nFuncionamiento de las bolsas de sustitutos e interinos.\nCalendario previsto de los exámenes.\n\n[La grabación de la sesión puede solicitarse a posteriori\, aunque recomendamos la asistencia en directo.] \n  \nEduardo Vijil – Cuerpo Nacional Veterinario / Catedrático Facultad Veterinaria UMU \nSantiago Guallar\, 4 \nE-mail: edvijil@yahoo.es / Tel.: 617 224 853 / Web (en actualización): http://www.oposicionesveterinaria.es/
URL:https://www.icovv.com/event/videoconferencia-informativa-proxima-convocatoria-25-plazas-salud-publica-12-plazas-seguridad-alimentaria-generalitat-valenciana/
CATEGORIES:Formación externa
ATTACH;FMTTYPE=image/jpeg:https://www.icovv.com/wp-content/uploads/2021/05/unnamed.jpg
ORGANIZER;CN="EDUARDO%20VIJIL":MAILTO:edvijil@yahoo.es
END:VEVENT
END:VCALENDAR