    BEGIN:VCALENDAR
VERSION:2.0
PRODID:-//ICOVV - ECPv5.3.1.1//NONSGML v1.0//EN
CALSCALE:GREGORIAN
METHOD:PUBLISH
X-WR-CALNAME:ICOVV
X-ORIGINAL-URL:https://www.icovv.com
X-WR-CALDESC:Eventos para ICOVV
BEGIN:VTIMEZONE
TZID:Europe/Madrid
BEGIN:DAYLIGHT
TZOFFSETFROM:+0100
TZOFFSETTO:+0200
TZNAME:CEST
DTSTART:20260329T010000
END:DAYLIGHT
BEGIN:STANDARD
TZOFFSETFROM:+0200
TZOFFSETTO:+0100
TZNAME:CET
DTSTART:20261025T010000
END:STANDARD
END:VTIMEZONE
BEGIN:VEVENT
DTSTART;TZID=Europe/Madrid:20260122T170000
DTEND;TZID=Europe/Madrid:20260122T183000
DTSTAMP:20260424T143035
CREATED:20260112T092600Z
LAST-MODIFIED:20260112T092606Z
UID:33383-1769101200-1769106600@www.icovv.com
SUMMARY:WEBSEMINAR: INFLUENZA AVIAR H5N1: SITUACIÓN ACTUAL Y RIESGOS PARA LA SANIDAD ANIMAL Y LA SALUD PÚBLICA
DESCRIPTION:Fecha y hora:  22 de enero de 2026\, a las 17:00 horas (16:00 en Canarias) \nDuración: 90 minutos \nInscripciones: https://colvetcampus.es/INFLUENZA-AVIAR-H5N1-SITUACION-ACTUAL-Y-RIESGOS-PARA-LA-SANIDAD-ANIMAL-Y-LA-SALUD-PUBLICA_es_6_144.html \nPrecio: GRATUITO  \n\n  \nPonente: Elisa Pérez Ramírez\nDoctora en Veterinaria\, especializada en virología. Tiene 20 años de experiencia en I+D+i en sanidad animal. Actualmente trabaja en el Departamento de Enfermedades Infecciosas y Salud Global del Centro de Investigación en Sanidad Animal\, perteneciente al INIA-CSIC. Su investigación se centra en el área de las enfermedades víricas zoonóticas que tienen gran impacto económico y sanitario como la influenza aviar y la fiebre del Nilo Occidental. Sus estudios han estado siempre enmarcados en el desarrollo y la promoción de la estrategia One Health como herramienta fundamental para la prevención y el control de las enfermedades compartidas entre humanos y animales. Es coautora del libro “Salud Global” (2023)\, donde se aborda la profunda interconexión entre salud humana\, animal y medioambiental. Desarrolla una intensa labor de difusión del conocimiento científico en seminarios\, cursos\, redes sociales y medios de comunicación. En 2024 recibió el reconocimiento a la mejor labor de divulgación científica en el INIA. \nDescripción:\nLa influenza o gripe aviar es una de las enfermedades más devastadoras en sanidad animal y supone una amenaza constante para la industria avícola y para la fauna silvestre. La actual epidemia no tiene precedentes\, ha afectado a millones de aves en todo el mundo y también se ha extendido a mamíferos. Esta situación plantea nuevos desafíos en el control de la enfermedad\, no sólo por las dificultades para prevenir y controlar el avance de la enfermedad en las aves sino también por el riesgo potencial en otros sectores incluida la salud pública. \nPara poder hacer frente a este gran reto sanitario es imprescindible aplicar la estrategia One Health\, promoviendo una colaboración fluida y estable entre los profesionales de sanidad animal\, salud humana y medioambiente. \nContenidos:\n\nCambios epidemiológicos observados en la epidemia de influenza aviar H5N1 en los últimos 5 años.\nSituación actual de la enfermedad en España\, Europa y el mundo.\nImpacto sanitario y económico en la industria avícola.\nImpacto sanitario en la fauna silvestre.\nBrotes de influenza aviar en mascotas (gatos\, perros).\nBrotes en ganado vacuno de leche en Estados Unidos (cuadro clínico\, vías de transmisión\, epidemiología).\nRiesgos para la salud pública.\n\nObjetivos:\n\nConocer la situación actual de la epidemia causada por el subtipo H5N1 de influenza aviar en España\, Europa y el mundo.\nExplicar el impacto sanitario de la enfermedad en aves domésticas y silvestres.\nEvaluar el impacto de la enfermedad en mamíferos\, tanto silvestres como domésticos (mascotas y ganado vacuno lechero).\nAbordar el carácter zoonótico de la enfermedad (vías de contagio\, cuadro clínico\, y prevención en humanos)\n\nFormato:\n\nCharla online de 90 minutos con 60 min de exposición y 30 minutos de debate con opción a que los asistentes envíen preguntas al ponente.\nInforme a todos los asistentes con las preguntas no respondidas en directo junto con materiales descargables complementarios.\nDiploma solo para asistentes en directo que garantice que han recibido la formación.\nGrabación disponible a través de la plataforma del Consejo tras la impartición del programa para poder verla sin limitación (durante un periodo de tiempo indicado en el Campus) CAMPUS > SEMINARIOS GRABADOS\nLos inscritos recibirán un email con la invitación (enlace de acceso y contraseña) el mismo día del evento a primera hora de la mañana.\n\n\n\n    descarga dossier informativo
URL:https://www.icovv.com/event/seminario-influenza-aviar-h5n1-situacion-actual-y-riesgos-para-la-sanidad-animal-y-la-salud-publica/
LOCATION:Online\, España
CATEGORIES:Cursos,Formación interna
ATTACH;FMTTYPE=image/jpeg:https://www.icovv.com/wp-content/uploads/2026/01/IMAGEN_CURSO_03.jpg
ORGANIZER;CN="OCV":MAILTO:consejo@colvet.es
END:VEVENT
END:VCALENDAR