    BEGIN:VCALENDAR
VERSION:2.0
PRODID:-//ICOVV - ECPv5.3.1.1//NONSGML v1.0//EN
CALSCALE:GREGORIAN
METHOD:PUBLISH
X-WR-CALNAME:ICOVV
X-ORIGINAL-URL:https://www.icovv.com
X-WR-CALDESC:Eventos para ICOVV
BEGIN:VTIMEZONE
TZID:Europe/Madrid
BEGIN:DAYLIGHT
TZOFFSETFROM:+0100
TZOFFSETTO:+0200
TZNAME:CEST
DTSTART:20250330T010000
END:DAYLIGHT
BEGIN:STANDARD
TZOFFSETFROM:+0200
TZOFFSETTO:+0100
TZNAME:CET
DTSTART:20251026T010000
END:STANDARD
END:VTIMEZONE
BEGIN:VEVENT
DTSTART;TZID=Europe/Madrid:20251224T090000
DTEND;TZID=Europe/Madrid:20251224T133000
DTSTAMP:20260424T142235
CREATED:20251022T154848Z
LAST-MODIFIED:20251029T160742Z
UID:32321-1766566800-1766583000@www.icovv.com
SUMMARY:EVENTO DE PRUEBA
DESCRIPTION:DESCRIPCIÓN DEL CURSO:\nXXX\n\n\nPRESENTACIÓN DEL MAPA:\n\nXXX\n\n\nOBJETIVOS ESPECÍFICOS: \nXXX \n\n\n\nPONENTES:\nLaura March Hervás\n\n\n	\n		\n			\n			\n	\n								\n									\n					\n								\n\n	\n	\n		\n			\n\n	\n\n	\n		\n			\n			\n\nLicenciada en Veterinaria. Universidad Cardenal Herrera CEU Valencia. (Valencia) 1999-2004.\nLicenciada en Ciencia y Tecnología de los Alimentos; Universidad de Valencia (Valencia) 2004-2006\nFuncionaria del Cuerpo Nacional Veterinario Inspectora de Sanidad Animal en el Puesto de Control Fronterizo (PCF) – Valencia (Ministerio de Agricultura\, Pesca y Alimentación) Desde 2021 – Actualidad: Veterinaria – Asistencia Técnica en Sanidad Animal TRAGSATEC (Tecnología y Servicios Agrarios S.A.) 2006 – 2021.\n\n		\n			\n\n	\n\n\n\n\n	\n		\n			\n			\nFernando Marquina Prada\n	\n								\n									\n					\n								\n\n	\n	\n		\n			\n\n	\n\n	\n		\n			\n			\n\nLicenciado en veterinaria en 2007 en la Universidad Cardenal Herrera CEU-UCH.\nVeterinario en clínica de pequeños animales (Centro veterinario Plans Les Arts).\n\n		\n			\n\n	\n\n\n [PARKING GRATUITO PARA COLEGIADOS ASISTENTES] (Más información)
URL:https://www.icovv.com/event/prueba-2/
LOCATION:ICOVV\, Guillem de Castro\, 8\, Valencia\, Valencia\, 46001\, España
ATTACH;FMTTYPE=image/png:https://www.icovv.com/wp-content/uploads/2019/07/cropped-favico.png
ORGANIZER;CN="ICOVV":MAILTO:cursos@icovv.com
GEO:39.4691175;-0.3812725
X-APPLE-STRUCTURED-LOCATION;VALUE=URI;X-ADDRESS=ICOVV Guillem de Castro 8 Valencia Valencia 46001 España;X-APPLE-RADIUS=500;X-TITLE=Guillem de Castro\, 8:geo:-0.3812725,39.4691175
END:VEVENT
END:VCALENDAR