    BEGIN:VCALENDAR
VERSION:2.0
PRODID:-//ICOVV - ECPv5.3.1.1//NONSGML v1.0//EN
CALSCALE:GREGORIAN
METHOD:PUBLISH
X-WR-CALNAME:ICOVV
X-ORIGINAL-URL:https://www.icovv.com
X-WR-CALDESC:Eventos para ICOVV
BEGIN:VTIMEZONE
TZID:Europe/Madrid
BEGIN:DAYLIGHT
TZOFFSETFROM:+0100
TZOFFSETTO:+0200
TZNAME:CEST
DTSTART:20250330T010000
END:DAYLIGHT
BEGIN:STANDARD
TZOFFSETFROM:+0200
TZOFFSETTO:+0100
TZNAME:CET
DTSTART:20251026T010000
END:STANDARD
END:VTIMEZONE
BEGIN:VEVENT
DTSTART;TZID=Europe/Madrid:20250915T140000
DTEND;TZID=Europe/Madrid:20250915T160000
DTSTAMP:20260424T164812
CREATED:20250801T124918Z
LAST-MODIFIED:20250801T125904Z
UID:31088-1757944800-1757952000@www.icovv.com
SUMMARY:PLAN FORMACIÓN 2025: "Casos clínicos de oncología. Desde el diagnóstico a la comunicación con los propietarios."
DESCRIPTION:DESCRIPCIÓN DEL CURSO:\n\nEste curso práctico abordará el manejo inicial del paciente oncológico en la clínica de pequeños animales\, centrándose tanto en el protocolo clínico como en la comunicación efectiva con el propietario. A través de casos clínicos reales\, se revisarán los principales pasos a seguir desde la sospecha hasta el diagnóstico\, incluyendo pruebas complementarias\, toma de muestras\, opciones terapéuticas iniciales y criterios de derivación. \nAdemás\, se trabajará la vertiente comunicativa\, esencial en este tipo de patologías\, para aprender a transmitir información compleja y emocional de manera clara\, empática y adaptada al contexto de cada caso. \n\n\n  \n\nOBJETIVO GENERAL:\n\n\nDotar al veterinario clínico de un protocolo claro y estructurado para el abordaje de pacientes oncológicos en la primera consulta\, facilitando la toma de decisiones diagnósticas y el manejo de la comunicación con los propietarios desde un enfoque profesional y humano. \n\n  \nOBJETIVOS ESPECÍFICOS:\n\n\nReconocer los signos clínicos que pueden hacer sospechar un proceso oncológico.\nIdentificar las pruebas diagnósticas esenciales en una primera consulta oncológica (citología\, biopsia\, pruebas de imagen\, etc.).\nEstablecer un algoritmo de actuación inicial basado en criterios clínicos y coste-beneficio para el cliente.\nAdquirir herramientas de comunicación para transmitir el diagnóstico\, pronóstico y opciones terapéuticas al propietario de forma comprensible y empática.\nComprender la importancia del acompañamiento emocional del tutor durante el proceso oncológico.\n\n\n\n\n\nPRECIO DEL CURSO:\n	\n								\n									\n					\n								\n\n	\n	\n\n	\n		\n\n	\n	\n\n\n	\n		\n			\n			\n	\n		\nPONENTE: Pachi Clemente Vicario\n\nVeterinario\, Diplomado en Oncología por el Colegio Americano de Medicina Interna Veterinaria (ACVIM) y acreditado en oncología por la Asociación de Veterinarios Españoles Especialistas en Pequeños Animales (AVEPA). Licenciado en Veterinaria (Universidad de Extremadura\, 1993). Residencia en Oncología médica en la Universidad estatal de Ohio\, USA (2012-2015). Máster en Medicina Veterinaria y comparada en la universidad de Ohio\, USA. Trabaja en La Merced Veterinary Specialists en Calpe (Alicante)\, España y colabora con los hospitales Ars Veterinaria (Barcelona)\, Vetsia (Madrid) y Canis Mallorca (Baleares). Director científico de AVEPA (Asociación de Veterinarios Españoles Especialistas en Pequeños Animales) desde enero 2018. Socio Honorario de la Asociación Mexicana de Oncología Veterinaria. Socio Honorario de la Sociedad Argentina de Oncología Veterinaria. Miembro del grupo de trabajo de oncología de la Asociación Mundial de Veterinarios de Pequeños Animales (WSAVA). Miembro del Veterinary Oncology Advisory Board de Boehringer Ingelheim. Premio “Bienestar Animal” a la trayectoria profesional del Colegio de Veterinarios de Alicante\, 2022 \n\n		\n\n	\n	\n		\n		\n\n	\n\n	\n\n	\n		\n			\n			\n\n	\n								\n									\n					\n								\n\n	\n	\n		\n			\n\n	\n\n\n [SE SERVIRÁ UN APERITIVO A LOS ASISTENTES\, PREVIO A LA CHARLA] \n [PARKING GRATUITO PARA COLEGIADOS ASISTENTES] (Más información) \n	\n		\n\n	\n	\nPatrocinadores:\n\n\n	\n		\n			\n			\n	\n								\n									\n					\n								\n\n	\n	\n		\n			\n\n	\n\n	\n		\n			\n			\n	\n								\n									\n					\n								\n\n	\n	\n		\n			\n\n	\n\n	\n		\n			\n			\n		\n			\n\n	\n\n 
URL:https://www.icovv.com/event/plan-formacion-2025-casos-clinicos-de-oncologia-desde-el-diagnostico-a-la-comunicacion-con-los-propietarios/
LOCATION:ICOVV\, Guillem de Castro\, 8\, Valencia\, Valencia\, 46001\, España
CATEGORIES:Cursos,Formación interna
ATTACH;FMTTYPE=image/jpeg:https://www.icovv.com/wp-content/uploads/2025/08/IMAGEN_CURSO.jpg
ORGANIZER;CN="ICOVV":MAILTO:cursos@icovv.com
GEO:39.4691175;-0.3812725
X-APPLE-STRUCTURED-LOCATION;VALUE=URI;X-ADDRESS=ICOVV Guillem de Castro 8 Valencia Valencia 46001 España;X-APPLE-RADIUS=500;X-TITLE=Guillem de Castro\, 8:geo:-0.3812725,39.4691175
END:VEVENT
END:VCALENDAR