    BEGIN:VCALENDAR
VERSION:2.0
PRODID:-//ICOVV - ECPv5.3.1.1//NONSGML v1.0//EN
CALSCALE:GREGORIAN
METHOD:PUBLISH
X-WR-CALNAME:ICOVV
X-ORIGINAL-URL:https://www.icovv.com
X-WR-CALDESC:Eventos para ICOVV
BEGIN:VTIMEZONE
TZID:Europe/Madrid
BEGIN:DAYLIGHT
TZOFFSETFROM:+0100
TZOFFSETTO:+0200
TZNAME:CEST
DTSTART:20250330T010000
END:DAYLIGHT
BEGIN:STANDARD
TZOFFSETFROM:+0200
TZOFFSETTO:+0100
TZNAME:CET
DTSTART:20251026T010000
END:STANDARD
END:VTIMEZONE
BEGIN:VEVENT
DTSTART;TZID=Europe/Madrid:20251030T193000
DTEND;TZID=Europe/Madrid:20251030T213000
DTSTAMP:20260424T142922
CREATED:20251015T145903Z
LAST-MODIFIED:20251016T084345Z
UID:32152-1761852600-1761859800@www.icovv.com
SUMMARY:INNOVACIÓN EN TRATAMIENTOS DERMATOLÓGICOS SIN FÁRMACOS
DESCRIPTION: 
URL:https://www.icovv.com/event/innovacion-en-tratamientos-dermatologicos-sin-farmacos/
LOCATION:ICOVV\, Guillem de Castro\, 8\, Valencia\, Valencia\, 46001\, España
CATEGORIES:Cursos,Formación externa
ATTACH;FMTTYPE=image/png:https://www.icovv.com/wp-content/uploads/2025/10/BANNER_WEB_Audivert.png
GEO:39.4691175;-0.3812725
X-APPLE-STRUCTURED-LOCATION;VALUE=URI;X-ADDRESS=ICOVV Guillem de Castro 8 Valencia Valencia 46001 España;X-APPLE-RADIUS=500;X-TITLE=Guillem de Castro\, 8:geo:-0.3812725,39.4691175
END:VEVENT
END:VCALENDAR