    BEGIN:VCALENDAR
VERSION:2.0
PRODID:-//ICOVV - ECPv5.3.1.1//NONSGML v1.0//EN
CALSCALE:GREGORIAN
METHOD:PUBLISH
X-WR-CALNAME:ICOVV
X-ORIGINAL-URL:https://www.icovv.com
X-WR-CALDESC:Eventos para ICOVV
BEGIN:VTIMEZONE
TZID:Europe/Madrid
BEGIN:DAYLIGHT
TZOFFSETFROM:+0100
TZOFFSETTO:+0200
TZNAME:CEST
DTSTART:20250330T010000
END:DAYLIGHT
BEGIN:STANDARD
TZOFFSETFROM:+0200
TZOFFSETTO:+0100
TZNAME:CET
DTSTART:20251026T010000
END:STANDARD
END:VTIMEZONE
BEGIN:VEVENT
DTSTART;VALUE=DATE:20251023
DTEND;VALUE=DATE:20251026
DTSTAMP:20260424T143012
CREATED:20250818T081912Z
LAST-MODIFIED:20250818T082009Z
UID:31178-1761177600-1761436799@www.icovv.com
SUMMARY:SEVC 2025
DESCRIPTION:PROGRAMA CIENTÍFICO\n\n\n\nFormación avanzada para veterinarios de animales de compañía y exóticos. \nDurante tres días completos\, se desarrollan más de 120 conferencias distribuidas en 7 salas paralelas\, algunas de ellas orientadas a un nivel avanzado\, para quienes buscan contenidos más especializados.\nEl congreso reúne a ponentes internacionales de primer nivel que presentan los últimos avances científicos\, clínicos y tecnológicos en un entorno profesional y colaborativo.\nTodas las salas contarán con traducción simultánea\, facilitando así el acceso al conocimiento a asistentes de diferentes países e idiomas. \n\nTALLERES\n\n\n\n¡Perfecciona la experiencia en grupos reducidos! \nLos Talleres del AVEPA-SEVC son otra de las características únicas que permiten a los congresistas perfeccionar su experiencia práctica de laboratorio y aprender nuevas técnicas de trabajo en grupos reducidos con instructores de reconocido prestigio internacional y con equipos de última generación.
URL:https://www.icovv.com/event/iii-congreso-de-cirugia-y-tejidos-blandos-de-avepa-gecira-2/
CATEGORIES:Congresos,Formación externa
ATTACH;FMTTYPE=image/png:https://www.icovv.com/wp-content/uploads/2025/08/Imagen2.png
ORGANIZER;CN="AVEPA":MAILTO:secre@avepa.org
END:VEVENT
END:VCALENDAR