    BEGIN:VCALENDAR
VERSION:2.0
PRODID:-//ICOVV - ECPv5.3.1.1//NONSGML v1.0//EN
CALSCALE:GREGORIAN
METHOD:PUBLISH
X-WR-CALNAME:ICOVV
X-ORIGINAL-URL:https://www.icovv.com
X-WR-CALDESC:Eventos para ICOVV
BEGIN:VTIMEZONE
TZID:Europe/Madrid
BEGIN:DAYLIGHT
TZOFFSETFROM:+0100
TZOFFSETTO:+0200
TZNAME:CEST
DTSTART:20250330T010000
END:DAYLIGHT
BEGIN:STANDARD
TZOFFSETFROM:+0200
TZOFFSETTO:+0100
TZNAME:CET
DTSTART:20251026T010000
END:STANDARD
END:VTIMEZONE
BEGIN:VEVENT
DTSTART;TZID=Europe/Madrid:20250918T170000
DTEND;TZID=Europe/Madrid:20250918T183000
DTSTAMP:20260424T151204
CREATED:20250818T063648Z
LAST-MODIFIED:20250818T075858Z
UID:31160-1758214800-1758220200@www.icovv.com
SUMMARY:ASPECTOS FUNDAMENTALES DE LA DERMATOSIS NODULAR CONTAGIOSA
DESCRIPTION:Descripción:\nLa dermatosis nodular contagiosa es una enfermedad infecciosa causada por un tipo de poxvirus genéticamente muy relacionado con los agentes causales asociados a la viruela ovina y caprina\, que\, no obstante\, es bastante específico a nivel de hospedador\, afectando principalmente al ganado bovino. Esta especie juega un papel fundamental en la epidemiología de la infección\, que se transmite fundamentalmente a partir de vectores. En esta formación vamos a repasar los aspectos fundamentales de la epidemiología y clínica de esta arbovirosis\, considerada una enfermedad emergente\, detectada nuevamente en Europa en fechas recientes\, con brotes activos en Francia e Italia.. \n\nPONENTE\nChristian de la Fe Rodríguez \nVeterinario y actualmente\, Catedrático del área de Sanidad Animal de la Universidad de Murcia. Coordinador del grupo de investigación Sanidad de Rumiantes (LABSARUM)\, sus líneas de investigación han estado siempre enfocadas al estudio de las enfermedades infecciosas\, integrando aspectos de su epidemiología\, biología molecular\, diagnóstico y control\, principalmente en el ámbito de las micoplasmosis y más recientemente\, de las infecciones por lentivirus. En la última década\, el trabajo de LABSARUM también se ha centrado en el estudio y control del complejo respiratorio bovino y de las resistencias a los antimicrobianos. LABSARUM ha desarrollado programas de control para diversas administraciones y entidades públicas\, participando igualmente en múltiples iniciativas de control de asociaciones y ganaderías del sector de los rumiantes. Ha participado en más de 100 trabajos en revistas incluidas en el JCR y es Autor de un capítulo\, “Contagious Agalactia”\, en el Manual Merck de veterinaria. \n 
URL:https://www.icovv.com/event/dermatosis-nodular-contagiosa/
LOCATION:Online\, España
CATEGORIES:Cursos,Formación interna
ATTACH;FMTTYPE=image/png:https://www.icovv.com/wp-content/uploads/2025/08/Imagen1.png
ORGANIZER;CN="OCV":MAILTO:consejo@colvet.es
END:VEVENT
END:VCALENDAR