    BEGIN:VCALENDAR
VERSION:2.0
PRODID:-//ICOVV - ECPv5.3.1.1//NONSGML v1.0//EN
CALSCALE:GREGORIAN
METHOD:PUBLISH
X-WR-CALNAME:ICOVV
X-ORIGINAL-URL:https://www.icovv.com
X-WR-CALDESC:Eventos para ICOVV
BEGIN:VTIMEZONE
TZID:Europe/Madrid
BEGIN:DAYLIGHT
TZOFFSETFROM:+0100
TZOFFSETTO:+0200
TZNAME:CEST
DTSTART:20250330T010000
END:DAYLIGHT
BEGIN:STANDARD
TZOFFSETFROM:+0200
TZOFFSETTO:+0100
TZNAME:CET
DTSTART:20251026T010000
END:STANDARD
END:VTIMEZONE
BEGIN:VEVENT
DTSTART;TZID=Europe/Madrid:20251213T093000
DTEND;TZID=Europe/Madrid:20251213T140000
DTSTAMP:20260424T142647
CREATED:20251128T105619Z
LAST-MODIFIED:20251128T105619Z
UID:32879-1765618200-1765634400@www.icovv.com
SUMMARY:CURSO DE CIRUGÍA VETERINARIA DE CAVIDAD ORAL
DESCRIPTION:Descripción del curso:\nEl curso de cirugía de la cavidad oral en veterinaria de I-vet te permitirá dominar las técnicas quirúrgicas más importantes de la región bucal. A través de una formación teórico-práctica\, aprenderás los abordajes\, resecciones y cierres más comunes en pequeños animales. Una oportunidad para perfeccionar tu precisión quirúrgica junto al equipo de I-vet. \nA quién va dirigido:\nVeterinarios clínicos que deseen profundizar en cirugía oral o ampliar su experiencia en abordajes quirúrgicos de la cavidad oral. Ideal para profesionales con formación previa en tejidos blandos o que hayan realizado el curso de glándulas salivales. \nObjetivos del curso:\n\nComprender la anatomía quirúrgica de la cavidad oral.\nDominar las técnicas de abordaje y cierre más frecuentes.\nPerfeccionar la ejecución de resecciones seguras y eficaces.\nMejorar la planificación quirúrgica y la gestión de complicaciones.\nIntegrar protocolos anestésicos y de analgesia adaptados a cirugía oral.\n\nPrograma del curso:\nBLOQUE TEÓRICO: \n\nAnatomía quirúrgica de la cavidad oral.\nTécnicas de abordaje según localización y patología.\nResecciones parciales y totales: criterios\, indicaciones y complicaciones.\nProtocolos de control del dolor y manejo perioperatorio.\n\nBLOQUE PRÁCTICO: \n\nAbordajes orales en modelos anatómicos.\nCierre quirúrgico de tejidos blandos y duros.\nCasos clínicos simulados con resolución guiada.\n\n\n	\n								\n									\n					\n								\n\n	\n	\n\nDetalles del Curso: \n\nFECHA: Sábado 13 de diciembre.\nLUGAR: Av. de Picassent\, 24\, Silla\, Valencia.\nPRECIO: 750\,00€ (10% dto. Colegio Veterinarios de Valencia)
URL:https://www.icovv.com/event/curso-de-cirugia-veterinaria-de-cavidad-oral/
CATEGORIES:Cursos,Formación externa
ATTACH;FMTTYPE=image/png:https://www.icovv.com/wp-content/uploads/2025/11/IMAGEN_WEB-1.png
ORGANIZER;CN="I-VET":MAILTO:veterinarios@i-vet.es
END:VEVENT
END:VCALENDAR