    BEGIN:VCALENDAR
VERSION:2.0
PRODID:-//ICOVV - ECPv5.3.1.1//NONSGML v1.0//EN
CALSCALE:GREGORIAN
METHOD:PUBLISH
X-WR-CALNAME:ICOVV
X-ORIGINAL-URL:https://www.icovv.com
X-WR-CALDESC:Eventos para ICOVV
BEGIN:VTIMEZONE
TZID:Europe/Madrid
BEGIN:DAYLIGHT
TZOFFSETFROM:+0100
TZOFFSETTO:+0200
TZNAME:CEST
DTSTART:20260329T010000
END:DAYLIGHT
BEGIN:STANDARD
TZOFFSETFROM:+0200
TZOFFSETTO:+0100
TZNAME:CET
DTSTART:20261025T010000
END:STANDARD
END:VTIMEZONE
BEGIN:VEVENT
DTSTART;VALUE=DATE:20260504
DTEND;VALUE=DATE:20260522
DTSTAMP:20260424T161705
CREATED:20260302T110433Z
LAST-MODIFIED:20260302T110743Z
UID:34336-1777852800-1779407999@www.icovv.com
SUMMARY:CONTROL OFICIAL DE ALIMENTOS 2026
DESCRIPTION:Solicitada la Acreditación a la Comisión de Formación Continuada de Profesiones Sanitarias de la Comunitat Valenciana\nOBJETIVO:\nAsegurar la capacidad de los agentes de control oficial titulados en veterinaria que pretendan realizar o que realizan sustituciones en los Centros de Salud Pública de la Comunitat Valenciana para desempeñar\, de manera eficaz\, coherente y homogénea\, las actuaciones relacionadas con el control oficial de alimentos y otras actividades oficiales. \nDESTINATARIOS:\nPersonas tituladas en Veterinaria colegiadas que pretenden realizar o que realizan sustituciones en los Centros de Salud Pública de la Comunitat Valenciana. \nPRIORIDAD A PERSONAS COLEGIADAS EN COLEGIOS OFICIALES DE VETERINARIOS DE LA COMUNITAT VALENCIANA. \nHORAS LECTIVAS:\n31 horas lectivas impartidas en modalidad online en directo (véase apartado PROGRAMA). \nNO ESTÁ PREVISTA LA VISUALIZACIÓN POSTERIOR DE VÍDEOS DE LAS PONENCIAS. ESTA FORMACIÓN DEBE SEGUIRSE EN DIRECTO DE MANERA ONLINE. \n  \nPLAZAS:\n40 plazas. ADMISIÓN POR RIGUROSO ORDEN DE INSCRIPCIÓN DANDO PRIORIDAD A PERSONAS COLEGIADAS EN COLEGIOS OFICIALES DE VETERINARIOS DE LA COMUNITAT VALENCIANA. \nLA REALIZACIÓN DEL CURSO ESTARÁ SUJETA A LA INSCRIPCIÓN DE UN MÍNIMO DE 15 PARTICIPANTES. \n  \nPRECIO:\n250 euros (Colegiados en Colegios de Veterinarios Oficiales de la Comunitat Valenciana). \n350 euros (Colegiados en Colegios de Veterinarios Oficiales de CCAA). \nBASES Y REQUISITOS:\n  Plazo y requisitos de inscripción.\n\nPlazo de inscripción hasta el 15 de abril de 2026 o hasta completar plazas.\nLos requisitos para participar en este curso serán los siguientes:\n\n\n\n\nTitulación Académica: Estar en posesión del título de Veterinaria.\nColegiación: Estar colegiado/a. Se dará prioridad a veterinarios colegiados en Colegios Oficiales de Veterinarios de la Comunitat Valenciana.\nPago de la inscripción: El pago deberá realizarse mediante transferencia bancaria en en el momento de la inscripción. La inscripción no será efectiva si no se realiza el pago.\n\n\n\n\n\n\n\nNº de cuenta: ES71 0049 5456 8122 1640 9884\nBeneficiario: Consell Valencià de legis Veterinaris.\nConcepto: NOMBRE Y APELLIDOS ALUMNO/A – COA2026\n\n\n\nINSCRÍBETE AQUÍ \n  Plazo y política de cancelación.\n\nPlazo de cancelación hasta el 15 de abril de 2026\n\n    Política de cancelación:\n\nSolicitud de cancelación: La cancelación debe realizarse a través del siguiente FORMULARIO ESPECÍFICO DE CANCELACIÓN destinado para este No se aceptarán cancelaciones notificadas por otros medios.\nPlazo de cancelación: Si la solicitud de cancelación se realiza dentro del plazo establecido\, se reembolsará el 100% del importe pagado. El reembolso se efectuará mediante transferencia bancaria al número de cuenta indicado en el formulario de cancelación.\nCancelaciones fuera de plazo o curso Iniciado: \n\n\n\n\nNo se realizarán reembolsos por cancelaciones fuera del plazo\nEn caso de que el curso ya haya comenzado\, no se efectuará ningún reembolso. Únicamente podrá valorarse la posibilidad de realizar la formación en próximas ediciones si el participante justifica una causa de fuerza mayor\, que deberá ser comunicada a formacion@cvcv.org y debidamente Se considerará causa de fuerza mayor toda situación de enfermedad o accidente que produzca una situación de incapacidad para la realización de la formación\, todo ello debidamente justificado.\n\n\n\nRequisitos Técnicos.\nLos participantes deberán disponer de los siguientes elementos para una correcta realización del curso: \n\nDispositivo Electrónico: Ordenador\, tablet o teléfono móvil con micrófono y cámara en correcto funcionamiento. Mantener la cámara encendida durante toda la formación para facilitar la interacción con el/la ponente y el resto de Se podrán realizar capturas de pantalla a lo largo de la formación para verificar la presencia en cámaras del alumnado.\nConexión a Internet: Disponer de una conexión a internet estable.\n\n  Evaluación: Asistencia y Examen final.\nPara superar el curso y obtener el certificado se requiere: \n\nAsistencia obligatoria al 80% de las horas lectivas del curso. Se realizará un control de los tiempos de conexión en cada jornada El 20% restante servirá al alumnado para ausentarse por asuntos personales\, médicos\, académicos…etc.\nRealización examen final en el cual se deberá obtener una calificación mínima de 5 sobre 10.\n\nDescarga AQUÍ el dossier informativo y el programa. \n\nCONTACTO:\nEmail: formacion@cvcv.org . Telf.: 963135030 \nORGANIZA:
URL:https://www.icovv.com/event/control-oficial-de-alimentos-2026/
CATEGORIES:Cursos,Formación interna
ATTACH;FMTTYPE=image/jpeg:https://www.icovv.com/wp-content/uploads/2022/02/IMAGEN-1.jpg
END:VEVENT
END:VCALENDAR