    BEGIN:VCALENDAR
VERSION:2.0
PRODID:-//ICOVV - ECPv5.3.1.1//NONSGML v1.0//EN
CALSCALE:GREGORIAN
METHOD:PUBLISH
X-WR-CALNAME:ICOVV
X-ORIGINAL-URL:https://www.icovv.com
X-WR-CALDESC:Eventos para ICOVV
BEGIN:VTIMEZONE
TZID:Europe/Madrid
BEGIN:DAYLIGHT
TZOFFSETFROM:+0100
TZOFFSETTO:+0200
TZNAME:CEST
DTSTART:20250330T010000
END:DAYLIGHT
BEGIN:STANDARD
TZOFFSETFROM:+0200
TZOFFSETTO:+0100
TZNAME:CET
DTSTART:20251026T010000
END:STANDARD
END:VTIMEZONE
BEGIN:VEVENT
DTSTART;VALUE=DATE:20250919
DTEND;VALUE=DATE:20250921
DTSTAMP:20260424T142507
CREATED:20250818T083136Z
LAST-MODIFIED:20250912T125033Z
UID:31184-1758240000-1758412799@www.icovv.com
SUMMARY:Congreso Vetnoroeste
DESCRIPTION:XII EDICIÓN CONGRESO VETNOROESTE.  que se celebrará en la ciudad de Pontevedra\, los días 19 y 20 de septiembre de 2025\, en el en el Pazo da Cultura de Pontevedra. \n  \n\nCONGRESO: 90€ (Precio reducido hasta 20 de agosto) https://forms.gle/V4VyA5zd5jESkEuy9\nATVS: 45€ (Precio reducido hasta 20 de agosto) https://forms.gle/DASTyBsCuiLdSBRZ8\nTALLER DE IA APLICADA A LA PRÁCTICA CLÍNICA: 60€ (Precio reducido hasta 20 de agosto) https://forms.gle/nKxyudLWgPJtxADy7\nTALLER DE CITOLOGÍA CUTÁNEA PRÁCTICA PARA VETERINARIOS GENERALISTAS (10 PLAZAS DISPONIBLES): 90€ (Precio reducido hasta 20 de agosto) https://forms.gle/YxkP6pESe2jUqpwk9\n\n  \nPara más información sobre el programa y los detalles del encuentro\, podéis acceder al siguiente enlace:DESCARGAR DOSIER
URL:https://www.icovv.com/event/congreso-vetnoroeste/
CATEGORIES:Congresos,Formación externa
ATTACH;FMTTYPE=image/png:https://www.icovv.com/wp-content/uploads/2025/08/Imagen3.png
END:VEVENT
END:VCALENDAR