    BEGIN:VCALENDAR
VERSION:2.0
PRODID:-//ICOVV - ECPv5.3.1.1//NONSGML v1.0//EN
CALSCALE:GREGORIAN
METHOD:PUBLISH
X-WR-CALNAME:ICOVV
X-ORIGINAL-URL:https://www.icovv.com
X-WR-CALDESC:Eventos para ICOVV
BEGIN:VTIMEZONE
TZID:Europe/Madrid
BEGIN:DAYLIGHT
TZOFFSETFROM:+0100
TZOFFSETTO:+0200
TZNAME:CEST
DTSTART:20250330T010000
END:DAYLIGHT
BEGIN:STANDARD
TZOFFSETFROM:+0200
TZOFFSETTO:+0100
TZNAME:CET
DTSTART:20251026T010000
END:STANDARD
END:VTIMEZONE
BEGIN:VEVENT
DTSTART;TZID=Europe/Madrid:20250918T143000
DTEND;TZID=Europe/Madrid:20250918T160000
DTSTAMP:20260424T162109
CREATED:20250829T125225Z
LAST-MODIFIED:20250901T090617Z
UID:31345-1758205800-1758211200@www.icovv.com
SUMMARY:CHARLA INFORMATIVA: Resultados de la encuesta sobre bienestar emocional y nueva edición del programa "EstarBien | BienEstar"
DESCRIPTION:¿Te cuesta disfrutar de tu profesión?\n\nLa sobrecarga de trabajo\, la presión emocional y el desgaste profesional afectan cada vez más al colectivo veterinario. En este contexto\, desde el ICOVV impulsamos hace un año el proyecto EstarBien | BienEstar\, una iniciativa que busca cuidar la salud emocional de nuestros colegiados/as a través de espacios seguros de acompañamiento\, reflexión y herramientas prácticas. \nEl próximo jueves 18 de septiembre te invitamos a una charla informativa en la sede del ICOVV\, en la que: \n\n\nPresentaremos los resultados de la encuesta sobre bienestar emocional realizada este verano\, que revela que más del 30 % de los colegiados/as presentan niveles bajos de bienestar. \n\n\nTe explicaremos en qué consiste la nueva edición 2025/26 del proyecto EstarBien | BienEstar\, un programa grupal con sesiones mensuales centradas en la gestión emocional\, el autocuidado y el apoyo mutuo. \n\n\nLa charla será impartida por Andrea Juste\, psicóloga sanitaria e instructora de Mindfulness\, y Begoña Bermell\, veterinaria y dinamizadora del proyecto\, junto con María Vitoria Arias\, Secretaría del ICOVV. \n\n\nY para conocerlo desde dentro\, te invitamos a ver este breve vídeo con testimonios reales de participantes de la edición anterior: \n\n\n\n\n\n\nMás información:\n\nFECHA: Jueves 18 de septiembre de 2025\nHORARIO: 14:30h – 16:00h\nFORMATO: Presencial y Online\nLUGAR: Sede ICOVV (Guillem de Castro nº8)\n\n\n\n\n  \n[CHARLA GRATUITA PARTA COLEGIADOS] \n[LOS ASISTENTES DISPONDRÁN DE PARKING GRATUITO] (Más información) \n 
URL:https://www.icovv.com/event/charla-informativa-resultados-de-la-encuesta-sobre-bienestar-emocional-y-nueva-edicion-del-programa-estarbien-bienestar/
LOCATION:ICOVV\, Guillem de Castro\, 8\, Valencia\, Valencia\, 46001\, España
CATEGORIES:Cursos,Formación interna
ATTACH;FMTTYPE=image/jpeg:https://www.icovv.com/wp-content/uploads/2025/08/CHARLA-INFORMATIVA-18.09.25-scaled.jpg
ORGANIZER;CN="ICOVV":MAILTO:cursos@icovv.com
GEO:39.4691175;-0.3812725
X-APPLE-STRUCTURED-LOCATION;VALUE=URI;X-ADDRESS=ICOVV Guillem de Castro 8 Valencia Valencia 46001 España;X-APPLE-RADIUS=500;X-TITLE=Guillem de Castro\, 8:geo:-0.3812725,39.4691175
END:VEVENT
END:VCALENDAR