    BEGIN:VCALENDAR
VERSION:2.0
PRODID:-//ICOVV - ECPv5.3.1.1//NONSGML v1.0//EN
CALSCALE:GREGORIAN
METHOD:PUBLISH
X-WR-CALNAME:ICOVV
X-ORIGINAL-URL:https://www.icovv.com
X-WR-CALDESC:Eventos para ICOVV
BEGIN:VTIMEZONE
TZID:Europe/Madrid
BEGIN:DAYLIGHT
TZOFFSETFROM:+0100
TZOFFSETTO:+0200
TZNAME:CEST
DTSTART:20220327T010000
END:DAYLIGHT
BEGIN:STANDARD
TZOFFSETFROM:+0200
TZOFFSETTO:+0100
TZNAME:CET
DTSTART:20221030T010000
END:STANDARD
END:VTIMEZONE
BEGIN:VEVENT
DTSTART;TZID=Europe/Madrid:20220524T143000
DTEND;TZID=Europe/Madrid:20220524T163000
DTSTAMP:20260424T151915
CREATED:20220503T064138Z
LAST-MODIFIED:20220503T080928Z
UID:14505-1653402600-1653409800@www.icovv.com
SUMMARY:AGRESIVIDAD FELINA HACIA MIEMBROS DE LA FAMILIA (HUMANOS Y OTROS ANIMALES)
DESCRIPTION:CONTENIDO\nSe revisarán las diferentes causas de agresividad felina hacia individuos con los que conviven (cuidadores\, otros gatos u otras especies). \nSe considerará especialmente la convivencia entre gatos\, planteando cuando es una buena opción (y cuando no lo es) la introducción de un nuevo miembro en el grupo. \n\nPONENTE\n\n		\n					\n				\n					\n											\n				\n			\n				\n									\n	\n		\nMarina Miralles Ribera\nLic. Veterinaria\, master UAB Etología Clínica. \nCo-fundadora de Ethoclínic Valencia. \nCo-responsable del servicio de Etología en Aúna Especialidades Veterinarias. \nEn proceso de Acreditación en Etología por Avepa. \n		\n\n	\n	\n		\n	\n	\n	\n	\n		\n\n	\n	\nPatrocinadores:
URL:https://www.icovv.com/event/agresividad-felina/
CATEGORIES:Cursos,Formación interna
ATTACH;FMTTYPE=image/png:https://www.icovv.com/wp-content/uploads/2022/05/Imagen.png
ORGANIZER;CN="ICOVV":MAILTO:cursos@icovv.com
END:VEVENT
END:VCALENDAR